Workbook

Sheet DVA
A1: DVA - 2011 MPB Update
A2: Area (ha) of MPB Attack Severity by Age Class and Density within Pine Stands (Pine Species >= 30% density - The Pine Mask)
A3: TSA Area | B3: 1387973.3
A4: Pine Mask Unharvested Area | B4: =SUM(data!D2:D200) -> 783618.59
A6: MPB Attack as a percentage of Pine affected within the VRI Stand
A8: MPB Attack Severity
C9: Light (<11%) | E9: Moderate (11-30%) | G9: Severe (31-50%) | I9: Very Severe (>50%) | K9: All Severity | M9: No Attack
A10: Age Class | B10: Pine Density | C10: Area (ha) | D10: Percent of all Pine (Pine Mask) | E10: Area (ha) | F10: Percent of all Pine (Pine Mask) | G10: Area (ha) | H10: Percent of all Pine (Pine Mask) | I10: Area (ha) | J10: Percent of all Pine (Pine Mask) | K10: Total Area of Attack (ha) | L10: Percent of all Pine (Pine Mask) | M10: Area (ha) | N10: Percent of all Pine (Pine Mask)
A11: 21-40 years | B11: 30-70% | C11: {=SUM(IF(data!A2:A200="21-40 years",IF(data!B2:B200="30-70%",IF(data!C2:C200="Light (<11%)",data!D2:D200,0),0),0))} -> 1623.2256 | D11: =C11/($K$20+$M$20) -> 0.0022915097 | E11: {=SUM(IF(data!A2:A200="21-40 years",IF(data!B2:B200="30-70%",IF(data!C2:C200="Moderate (11-30%)",data!D2:D200,0),0),0))} -> 1151.8123 | F11: =E11/($K$20+$M$20) -> 0.001626015 | G11: {=SUM(IF(data!A2:A200="21-40 years",IF(data!B2:B200="30-70%",IF(data!C2:C200="Severe (31-50%)",data!D2:D200,0),0),0))} -> 921.61656 | H11: =G11/($K$20+$M$20) -> 0.0013010473 | I11: {=SUM(IF(data!A2:A200="21-40 years",IF(data!B2:B200="30-70%",IF(data!C2:C200="Very Severe (>50%)",data!D2:D200,0),0),0))} -> 9135.5567 | J11: =I11/($K$20+$M$20) -> 0.012896678 | K11: =SUM(C11,E11,G11,I11) -> 12832.211 | L11: =K11/($K$20+$M$20) -> 0.01811525 | M11: {=SUM(IF(data!A2:A200="21-40 years",IF(data!B2:B200="30-70%",IF(data!C2:C200="No Attack",data!D2:D200,0),0),0))} -> 1646.638 | N11: =M11/($K$20+$M$20) -> 0.0023245611
B12: >70% | C12: {=SUM(IF(data!A2:A200="21-40 years",IF(data!B2:B200=">70%",IF(data!C2:C200="Light (<11%)",data!D2:D200,0),0),0))} -> 5004.3303 | D12: =C12/($K$20+$M$20) -> 0.0070646197 | E12: {=SUM(IF(data!A2:A200="21-40 years",IF(data!B2:B200=">70%",IF(data!C2:C200="Moderate (11-30%)",data!D2:D200,0),0),0))} -> 3765.3173 | F12: =E12/($K$20+$M$20) -> 0.0053155035 | G12: {=SUM(IF(data!A2:A200="21-40 years",IF(data!B2:B200=">70%",IF(data!C2:C200="Severe (31-50%)",data!D2:D200,0),0),0))} -> 2352.8719 | H12: =G12/($K$20+$M$20) -> 0.0033215524 | I12: {=SUM(IF(data!A2:A200="21-40 years",IF(data!B2:B200=">70%",IF(data!C2:C200="Very Severe (>50%)",data!D2:D200,0),0),0))} -> 24478.689 | J12: =I12/($K$20+$M$20) -> 0.034556598 | K12: =SUM(C12,E12,G12,I12) -> 35601.208 | L12: =K12/($K$20+$M$20) -> 0.050258273 | M12: {=SUM(IF(data!A2:A200="21-40 years",IF(data!B2:B200=">70%",IF(data!C2:C200="No Attack",data!D2:D200,0),0),0))} -> 2549.8409 | N12: =M12/($K$20+$M$20) -> 0.0035996138
A14: 41-60 years | B14: 30-70% | C14: {=SUM(IF(data!A2:A200="41-60 years",IF(data!B2:B200="30-70%",IF(data!C2:C200="Light (<11%)",data!D2:D200,0),0),0))} -> 75.530118 | D14: =C14/($K$20+$M$20) -> 0.00010662597 | E14: {=SUM(IF(data!A2:A200="41-60 years",IF(data!B2:B200="30-70%",IF(data!C2:C200="Moderate (11-30%)",data!D2:D200,0),0),0))} -> 555.65979 | F14: =E14/($K$20+$M$20) -> 0.00078442566 | G14: {=SUM(IF(data!A2:A200="41-60 years",IF(data!B2:B200="30-70%",IF(data!C2:C200="Severe (31-50%)",data!D2:D200,0),0),0))} -> 69.093552 | H14: =G14/($K$20+$M$20) -> 9.753946e-05 | I14: {=SUM(IF(data!A2:A200="41-60 years",IF(data!B2:B200="30-70%",IF(data!C2:C200="Very Severe (>50%)",data!D2:D200,0),0),0))} -> 2271.0424 | J14: =I14/($K$20+$M$20) -> 0.0032060336 | K14: =SUM(C14,E14,G14,I14) -> 2971.3259 | L14: =K14/($K$20+$M$20) -> 0.0041946247 | M14: {=SUM(IF(data!A2:A200="41-60 years",IF(data!B2:B200="30-70%",IF(data!C2:C200="No Attack",data!D2:D200,0),0),0))} -> 313.97742 | N14: =M14/($K$20+$M$20) -> 0.00044324234
B15: >70% | C15: {=SUM(IF(data!A2:A200="41-60 years",IF(data!B2:B200=">70%",IF(data!C2:C200="Light (<11%)",data!D2:D200,0),0),0))} -> 312.92197 | D15: =C15/($K$20+$M$20) -> 0.00044175236 | E15: {=SUM(IF(data!A2:A200="41-60 years",IF(data!B2:B200=">70%",IF(data!C2:C200="Moderate (11-30%)",data!D2:D200,0),0),0))} -> 1121.8454 | F15: =E15/($K$20+$M$20) -> 0.0015837106 | G15: {=SUM(IF(data!A2:A200="41-60 years",IF(data!B2:B200=">70%",IF(data!C2:C200="Severe (31-50%)",data!D2:D200,0),0),0))} -> 404.47908 | H15: =G15/($K$20+$M$20) -> 0.00057100366 | I15: {=SUM(IF(data!A2:A200="41-60 years",IF(data!B2:B200=">70%",IF(data!C2:C200="Very Severe (>50%)",data!D2:D200,0),0),0))} -> 12873.092 | J15: =I15/($K$20+$M$20) -> 0.01817296 | K15: =SUM(C15,E15,G15,I15) -> 14712.338 | L15: =K15/($K$20+$M$20) -> 0.020769427 | M15: {=SUM(IF(data!A2:A200="41-60 years",IF(data!B2:B200=">70%",IF(data!C2:C200="No Attack",data!D2:D200,0),0),0))} -> 183.7509 | N15: =M15/($K$20+$M$20) -> 0.00025940139
A17: >60 years | B17: 30-70% | C17: {=SUM(IF(data!A2:A200=">60 years",IF(data!B2:B200="30-70%",IF(data!C2:C200="Light (<11%)",data!D2:D200,0),0),0))} -> 504.22035 | D17: =C17/($K$20+$M$20) -> 0.00071180854 | E17: {=SUM(IF(data!A2:A200=">60 years",IF(data!B2:B200="30-70%",IF(data!C2:C200="Moderate (11-30%)",data!D2:D200,0),0),0))} -> 1307.0736 | F17: =E17/($K$20+$M$20) -> 0.0018451976 | G17: {=SUM(IF(data!A2:A200=">60 years",IF(data!B2:B200="30-70%",IF(data!C2:C200="Severe (31-50%)",data!D2:D200,0),0),0))} -> 2059.7966 | H17: =G17/($K$20+$M$20) -> 0.0029078176 | I17: {=SUM(IF(data!A2:A200=">60 years",IF(data!B2:B200="30-70%",IF(data!C2:C200="Very Severe (>50%)",data!D2:D200,0),0),0))} -> 142377.41 | J17: =I17/($K$20+$M$20) -> 0.20099438 | K17: =SUM(C17,E17,G17,I17) -> 146248.5 | L17: =K17/($K$20+$M$20) -> 0.2064592 | M17: {=SUM(IF(data!A2:A200=">60 years",IF(data!B2:B200="30-70%",IF(data!C2:C200="No Attack",data!D2:D200,0),0),0))} -> 2802.6973 | N17: =M17/($K$20+$M$20) -> 0.0039565715
B18: >70% | C18: {=SUM(IF(data!A2:A200=">60 years",IF(data!B2:B200=">70%",IF(data!C2:C200="Light (<11%)",data!D2:D200,0),0),0))} -> 1373.1377 | D18: =C18/($K$20+$M$20) -> 0.0019384603 | E18: {=SUM(IF(data!A2:A200=">60 years",IF(data!B2:B200=">70%",IF(data!C2:C200="Moderate (11-30%)",data!D2:D200,0),0),0))} -> 3765.4507 | F18: =E18/($K$20+$M$20) -> 0.0053156918 | G18: {=SUM(IF(data!A2:A200=">60 years",IF(data!B2:B200=">70%",IF(data!C2:C200="Severe (31-50%)",data!D2:D200,0),0),0))} -> 7864.171 | H18: =G18/($K$20+$M$20) -> 0.011101861 | I18: {=SUM(IF(data!A2:A200=">60 years",IF(data!B2:B200=">70%",IF(data!C2:C200="Very Severe (>50%)",data!D2:D200,0),0),0))} -> 473650.6 | J18: =I18/($K$20+$M$20) -> 0.66865318 | K18: =SUM(C18,E18,G18,I18) -> 486653.36 | L18: =K18/($K$20+$M$20) -> 0.68700919 | M18: {=SUM(IF(data!A2:A200=">60 years",IF(data!B2:B200=">70%",IF(data!C2:C200="No Attack",data!D2:D200,0),0),0))} -> 1849.2879 | N18: =M18/($K$20+$M$20) -> 0.0026106422
A20: Total | C20: =SUM(C11:C18) -> 8893.366 | D20: =C20/($K$20+$M$20) -> 0.012554777 | E20: =SUM(E11:E18) -> 11667.159 | F20: =E20/($K$20+$M$20) -> 0.016470544 | G20: =SUM(G11:G18) -> 13672.029 | H20: =G20/($K$20+$M$20) -> 0.019300821 | I20: =SUM(I11:I18) -> 664786.39 | J20: =I20/($K$20+$M$20) -> 0.93847983 | K20: =SUM(K11:K18) -> 699018.94 | L20: =SUM(L11:L18) -> 0.98680597 | M20: =SUM(M11:M18) -> 9346.1924 | N20: =SUM(N11:N18) -> 0.013194032

Sheet data
A1: Age Class | B1: Pine Density | C1: MPB Attack Severity | D1: Sum Of area_ha
A2: <21 years | B2: >70% | C2: Light (<11%) | D2: 58.860122
A3: <21 years | B3: >70% | C3: Light (<11%) | D3: 12961.661
A4: <21 years | B4: >70% | C4: Moderate (11-30%) | D4: 442.5572
A5: <21 years | B5: >70% | C5: Moderate (11-30%) | D5: 8491.2983
A6: <21 years | B6: >70% | C6: No Attack | D6: 837.76665
A7: <21 years | B7: >70% | C7: No Attack | D7: 0.73330713
A8: <21 years | B8: >70% | C8: No Attack | D8: 1011.6705
A9: <21 years | B9: >70% | C9: No Attack | D9: 3.5728104e-06
A10: <21 years | B10: >70% | C10: Severe (31-50%) | D10: 244.063
A11: <21 years | B11: >70% | C11: Severe (31-50%) | D11: 2650.6931
A12: <21 years | B12: >70% | C12: Very Severe (>50%) | D12: 1549.0269
A13: <21 years | B13: >70% | C13: Very Severe (>50%) | D13: 34551.597
... A99: 41-60 years | B99: 30-70% | C99: Very Severe (>50%) | D99: 1994.2974

Sheet Sheet3
